Workbook
Name AÑO_FISCAL: '[1]IR-1'!$AD$7
Name AÑO_FISCAL: 'IR-1'!$AD$7
Name NOMBRE: '[1]IR-1'!$J$11
Name NOMBRE: 'IR-1'!$J$11
Name RNC: '[1]IR-1'!$H$11
Name RNC: 'IR-1'!$H$11

Sheet Anexo RG
E4: DIRECCIÓN GENERAL DE IMPUESTOS INTERNOS | X4: Anexo RG
E5: REGISTRO DE GASTOS EDUCATIVOS
C7: Versión 2018 | X7: AÑO FISCAL
X8: 2023
D10: DATOS PERSONALES DECLARANTE
D11: RNC/CÉDULA | L11: NOMBRE(S) Y APELLIDO(S)
C15: I. -GASTOS EN EDUCACIÓN
D16: RNC/CEDULA | J16: TIPO ID | L16: NIVEL | N16: NCF | P16: FECHA | R16: VALOR | W16: DEPENDIENTE
C17: 1
C18: 2
C19: 3
C20: 4
C21: 5
C22: 6
C23: 7
C24: 8
C25: 9
C26: 10
C27: 11
C28: 12
... C46: 30
O47: 31 | P47: TOTAL | R47: =SUM(R17:R46) -> 0

Sheet Anexo RD
W4: Anexo RD
G5: DIRECCIÓN GENERAL DE IMPUESTOS INTERNOS
G6: REGISTRO DE DEPENDIENTES | W6: AÑO FISCAL
C7: Versión 2018 | W7: 2023
D10: DATOS PERSONALES DECLARANTE
D11: RNC/CÉDULA | L11: NOMBRE(S) Y APELLIDO(S)
C15: I. -RELACIÓN DE DEPENDIENTES
D16: FECHA NACIMIENTO | J16: CEDULA | L16: PRIMERO APELLIDO | N16: SEGUNDO APELLIDO | Q16: PRIMER NOMBRE | T16: SEGUNDO NOMBRE | W16: RELACIÓN
C17: 1 | Z17: Contribuyente
C18: 2 | Z18: Hijo (a)
C19: 3
C20: 4
C21: 5
C22: 6
C23: 7
C24: 8
C25: 9
C26: 10
C27: 11
C28: 12
C29: 13
C30: 14
... C41: 25

Sheet Planteamiento del ISR
B1: =+'IR-1'!AC17 -> 0
A2: BASE IMPONIBLE | B2: =+B1-'Anexo B'!J30-'Anexo B'!J32-'Anexo B'!J51 -> 0 | E2: =+B2*E10 -> 0 | F2: =+E2+F6+F8 -> 79775.148
A4: Renta exenta | B4: 416220
B5: Desde | C5: Hasta
A6: Renta | B6: 416220 | C6: 624329 | D6: =+C6-B6 -> 208109 | E6: 0.15 | F6: =+D6*E6 -> 31216.35 | H6: =+B2 -> 0 | I6: 0.15 | J6: 0.2 | K6: 0.25
I7: =+F6 -> 31216.35 | J7: =+F8 -> 48558.798 | K7: =+K6*H10 -> -112725.75
A8: Renta | B8: 624329.01 | C8: 867123 | D8: =+C8-B8 -> 242793.99 | E8: 0.2 | F8: =+E8*D8 -> 48558.798
A10: Renta | B10: 867123.01 | E10: 0.25 | F10: =+H6*E10 -> 0 | H10: =+H6-D6-D8 -> -450902.99
H12: =+I7+J7+K7 -> -32950.599
H13: =+H12-'IR-1'!AC28 -> -32950.599
A14: Aplicando el | B14: 0.25 | D14: =+'IR-1'!AC26 -> 0
D15: =+D14-D6-D8 -> -450902.99
D16: =+D15*B14 -> -112725.75
D17: =+D16+I7+J7 -> -32950.599
D18: =+D17-'IR-1'!AC28 -> -32950.599

Sheet IR-1
G5: DIRECCIÓN GENERAL DE IMPUESTOS INTERNOS | AD5: IR-1
G6: DECLARACIÓN JURADA DE IMPUESTO SOBRE LA RENTA PARA LAS PERSONAS FÍSICAS
AB7: AÑO FISCAL | AD7: 2024
C8: Versión 2018
C10: I. | H10: RNC/CÉDULA | J10: NOMBRE(S) Y APELLIDO(S) | S10: NOMBRE COMERCIAL
C11: =30000*12 -> 360000
H12: TELÉFONO | J12: CORREO ELECTRÓNICO | S12: CONTABILIDAD ORGANIZADA | AB12: TIPO DE DECLARACIÓN
S13: NO | AB13: NORMAL
C16: II. | G16: A. | H16: INGRESOS (Viene de la casilla 14 "Total de Ingresos" del Anexo B) | AA16: = | AB16: A | AC16: =+'Anexo B'!L27 -> 0
C17: RENTA NETA IMPONIBLE | G17: 1 | H17: BENEFICIO O PERDIDA NETA ANTES DEL IMPUESTO (Viene de la casilla 67 "Beneficio (Perdida) del Ejerc. Antes de ISR" del Anexo B) | AA17: = | AB17: 1 | AC17: =+'Anexo B'!L90 -> 0
G18: 2 | H18: GASTOS NO ADMITIDOS | T18: + | U18: 2
G19: 3 | H19: INGRESOS EXENTOS (Anexar Certificación) | T19: - | U19: 3 | V19: =+'Ingresos terceros'!F8+'Ingresos terceros'!E11 -> 0
G20: 4 | H20: INGRESOS POR DIVIDENDOS (Viene de la casilla 13 "Ingresos por Dividendos" del Anexo B) | T20: - | U20: 4 | V20: =+'Anexo B'!J26 -> 0
G21: 5 | H21: RENTA NETA (O PERDIDA) (Casillas 1+2-3-4) | AA21: = | AB21: 5 | AC21: =AC17+V18-V19-V20 -> 0
G22: 6 | H22: EXENCIÓN CONTRIBUTIVA (Solo aplica para los que no reportan costos o gastos) | T22: - | U22: 6 | V22: =ABS(IF(('Anexo B'!L34+'Anexo B'!L42+'Anexo B'!L52+'Anexo B'!L54+'Anexo B'!L63+'Anexo B'!L70+'Anexo B'!L75+'Anexo B'!L84+'Anexo B'!L88)<=0,(416220),0)) -> 416220
G23: 7 | H23: EXENCIÓN GASTOS EN EDUCACIÓN (No exceder 10% de las casillas 5-6 y el 25% de la Exención Contributiva) | T23: - | U23: 7 | V23: =IF((IF('Anexo RG'!R47>((IF(AC21-V22>0,AC21-V22,0))*0.1),(IF(AC21-V22>0,AC21-V22,0))*0.1,'Anexo RG'!R47))>=V22*0.25,V22*0.25,IF('Anexo RG'!R47>((IF(AC21-V22>0,AC21-V22,0))*0.1),(IF(AC21-V22>0,AC21-V22,0))*0.1,'Anexo RG'!R47)) -> 0
G24: 8 | H24: GANANCIA DE CAPITAL POR VENTAS DE ACCIONES | T24: + | U24: 8
G25: 9 | H25: GANANCIA DE CAPITAL POR VENTA Y/O APORTE EN NATURALEZA DE INMUEBLES | T25: + | U25: 9
G26: 10 | H26: RENTA NETA IMPONIBLE (Casillas 5-6-7+8+9, si aplica) | AA26: = | AB26: 10 | AC26: =IF(AC21-V22-V23+V24+V25>0,AC21-V22-V23+V24+V25,0) -> 0
C28: III. | G28: 11 | H28: IMPUESTO LIQUIDADO (Aplica tasa sobre casilla 10) | AA28: = | AB28: 11 | AC28: =ABS(IF(AND(AC26<=0,V22>0),0,IF(AND(AC26<=208109,V22>0),0.15*AC26,IF(AND(AC26<=450903,V22>0),31216.35+(0.2*(AC26-208109)),IF(AND(AC26>=450903,V22>0),79775.15+(0.25*(AC26-450903)),IF(AC26<=624329,0.15*AC26,IF(AC26<=867123,93649.35+(0.2*(AC26-624329)),IF(AC26>867123,142208.15+(0.25*(AC26-867123)))))))))) -> 0
C29: LIQUIDACIÓN | G29: 12 | H29: ANTICIPOS PAGADOS | T29: - | U29: 12 | V29: =+'Anticipos Pagados 2023'!C9 -> 0
G30: 13 | H30: RETENCIONES (Viene las Casillas 28 del Anexo A) | T30: - | U30: 13 | V30: =+'Ingresos terceros'!E15 -> 0
G31: 14 | H31: OTROS PAGOS | T31: - | U31: 14
G32: 15 | H32: SALDO A FAVOR EJERCICIO ANTERIOR | T32: - | U32: 15
G33: 16 | H33: DIFERENCIA A PAGAR (Casillas 11-12-13-14-15 si es positivo) | AA33: = | AB33: 16 | AC33: =IF((AC28-V29-V30-V31-V32)>0,(AC28-V29-V30-V31-V32),0) -> 0
G34: 17 | H34: SALDO A FAVOR (Casillas 11-12-13-14-15 si es negativo) | T34: = | U34: 17 | V34: =ABS(IF((AC28-V29-V30-V31-V32)<0,(AC28-V29-V30-V31-V32),0)) -> 0
G35: 18 | H35: MORA EN DECLARACIÓN TARDÍA | L35: % sobre la casilla 16. | T35: + | U35: 18 | V35: =AC33*K35% -> 0
G36: 19 | H36: MORA EN ANTICIPOS NO PAGADOS | T36: + | U36: 19
G37: 20 | H37: INTERÉS INDEMNIZATORIO | L37: % sobre la casilla 16. | T37: + | U37: 20 | V37: =AC33*K37% -> 0
G38: 21 | H38: INTERÉS INDEMNIZATORIO POR ANTICIPOS NO PAGADOS | T38: + | U38: 21
G39: 22 | H39: TOTAL A PAGAR (Sumar casillas 16+18+19+20+21) | AA39: = | AB39: 22 | AC39: =AC33+V35+V36+V37+V38 -> 0
C41: IV.
C42: PARA USO DE LA DGII | H42: FECHA DE PRESENTACIÓN | M42: FECHA DE PRORROGA
H44: FECHA DE PAGO | M44: FECHA ACUSE NOTIFICACIÓN INICIAL
C47: V. JURAMENTO DEL DECLARANTE | L47: VI. AUTORIZACIÓN DE PRESENTACIÓN | AA47: VII. CONSTANCIA DE PAGO
L48: Autorizo a la siguiente persona a representarme ante esta Dirección General, en la presentación y trámite de esta Declaración Jurada. | AA48: FIRMA Y SELLO
C49: Yo
C50: en calidad de
C51: por la presente afirmo bajo juramento que los datos consignados en la presente declaración de renta son correctos y completos y que no he omitido ni falseado dato alguno que la misma deba contener, siendo en consecuencia todo su contenido la fiel expresión de la verdad. | L51: Apellidos
L53: Nombres
...

Sheet Anexo B
K3: Anexo B
E4: DIRECCION GENERAL DE IMPUESTOS INTERNOS
E5: ESTADO DE RESULTADOS | K5: AÑO FISCAL
K6: =+'IR-1'!AD7 -> 2024
C7: Version 2018
D9: DATOS PERSONALES DECLARANTE
D10: RNC/CÉDULA | H10: NOMBRE(S) Y APELLIDO(S)
D11: =+'IR-1'!H11 -> 0 | H11: =+'IR-1'!J11 -> 0
C14: I. | D14: 1 | E14: INGRESOS POR VENTAS BIENES LOCALES | I14: +
C15: INGRESOS | D15: =+D14+1 -> 2 | E15: INGRESOS POR EXPORTACIONES | I15: +
D16: =+D15+1 -> 3 | E16: INGRESOS POR PRESTACION DE SERVICIOS | I16: +
D17: =+D16+1 -> 4 | E17: INGRESOS POR HONORARIOS PROFESIONALES | I17: + | J17: ='Ingresos terceros'!D11 -> 0
D18: =+D17+1 -> 5 | E18: INGRESOS POR ALQUILERES | I18: +
D19: =+D18+1 -> 6 | E19: OTROS INGRESOS | I19: + | J19: =+'Ingresos terceros'!D10 -> 0
D20: =+D19+1 -> 7 | E20: DEVOLUCIONES S/VENTAS | I20: -
D21: =+D20+1 -> 8 | E21: DESCUENTOS S/VENTAS | I21: -
D22: =+D21+1 -> 9 | E22: INGRESOS POR SALARIOS | I22: + | J22: =+'Ingresos terceros'!D7+'Ingresos terceros'!D8 -> 0
D23: =+D22+1 -> 10 | E23: INTERESES POR INVERSIONES FINANCIERAS EN INSTITUCIONES REGULADAS POR LAS AUTORIDADES MONETARIAS | I23: + | J23: =+'Ingresos terceros'!D13 -> 0
D24: =+D23+1 -> 11 | E24: INTERESES POR INVERSIONES FINANCIERAS DE INSTITUCIONES NO REGULADAS POR LAS AUTORIDADES MONETARIAS | I24: +
D25: =+D24+1 -> 12 | E25: VENTAS DE BIENES DE CAPITAL | I25: +
D26: =+D25+1 -> 13 | E26: INGRESOS POR DIVIDENDOS | I26: + | J26: =+Acciones!M13 -> 0
D27: =D26+1 -> 14 | E27: TOTAL INGRESOS (Casillas 1+2+3+4+5+6-7-8+9+10+11+12+13) | K27: = | L27: =J14+J15+J16+J17+J18+J19-J20-J21+J22+J23+J24+J25+J26 -> 0
C29: II. | D29: =+D27+1 -> 15 | E29: INVENTARIO INICIAL | I29: +
C30: COSTOS | D30: =+D29+1 -> 16 | E30: COMPRAS LOCALES | I30: +
D31: =+D30+1 -> 17 | E31: COMPRAS EN EL EXTERIOR (IMPORTACIONES) | I31: +
D32: =+D31+1 -> 18 | E32: ITBIS LLEVADO AL COSTO | I32: +
D33: =+D32+1 -> 19 | E33: INVENTARIO FINAL | I33: -
D34: =+D33+1 -> 20 | E34: TOTAL COSTO DE VENTA (Casillas 15+16+17+18-19) | K34: = | L34: =+J29+J30+J31+J32-J33 -> 0
C36: III. | D36: =+D34+1 -> 21 | E36: SUELDOS Y SALARIOS | I36: +
C37: GASTOS DE PERSONAL | D37: =+D36+1 -> 22 | E37: RETRIBUCIONES COMPLEMENTARIAS | I37: +
D38: =+D37+1 -> 23 | E38: SEGUROS | I38: +
D39: =+D38+1 -> 24 | E39: APORTACION SEGURIDAD SOCIAL | I39: +
D40: =+D39+1 -> 25 | E40: APORTE INFOTEP | I40: +
D41: =+D40+1 -> 26 | E41: OTROS GASTOS DE PERSONAL | I41: +
D42: =+D41+1 -> 27 | E42: TOTAL GASTOS DE PERSONAL (Sumar Casillas 21+22+23+24+25+26) | K42: = | L42: =SUM(J36:K41) -> 0
C44: IV. | D44: =+D42+1 -> 28 | E44: HONORARIOS POR SERVICIOS PROFESIONALES | I44: +
C45: GASTOS POR TRABAJOS, SUMINISTROS Y SERVICIOS | D45: =+D44+1 -> 29 | E45: HONORARIOS POR SERVICIOS DEL EXTERIOR (LEY No. 392-07) | I45: +
D46: =+D45+1 -> 30 | E46: HONORARIOS POR SERVICIOS DEL EXTERIOR (PERSONAS FISICAS Y MORALES) | I46: +
D47: =+D46+1 -> 31 | E47: FACTURAS DE ENERGIA ELECTRICA | I47: +
D48: =+D47+1 -> 32 | E48: FACTURAS TELEFONICAS (Teléfonos Fijos y Móviles) | I48: +
...

Sheet Anexo A
U4: Anexo A
F5: DIRECCIÓN GENERAL DE IMPUESTOS INTERNOS
F6: DATOS COMPLEMENTARIOS | T6: AÑO FISCAL
T7: =+'IR-1'!AD7 -> 2024
C8: Versión 2018
D10: DATOS PERSONALES DECLARANTE
C11: =30000*12 -> 360000 | D11: RNC/CÉDULA | H11: NOMBRE(S) Y APELLIDO(S)
D12: =+'IR-1'!H11 -> 0 | H12: =+'IR-1'!J11 -> 0
C15: I. | E15: DETALLE DE LOS BIENES | R15: CANTIDAD | U15: MONTO
C16: PATRIMONIO | E16: 1 | F16: INMUEBLES URBANOS: SOLARES | U16: =+Inmuebles!U34 -> 0
E17: =+E16+1 -> 2 | F17: INMUEBLES URBANOS: MEJORAS | U17: =+Inmuebles!G5+Inmuebles!G6 -> 0
E18: =+E17+1 -> 3 | F18: INMUEBLES RURALES: TERRENOS | U18: =+Inmuebles!U33 -> 0
E19: =+E18+1 -> 4 | F19: MEJORAS, INSTALACIONES CONTENIDAS TERRENOS RURALES | U19: =+Inmuebles!W33 -> 0
E20: =+E19+1 -> 5 | F20: EXISTENCIA DE GANADO VACUNO, PORCINO, AVÍCOLA, ETC.
E21: =+E20+1 -> 6 | F21: EXISTENCIA DE PRODUCTOS AGRÍCOLAS Y FORESTALES
E22: =+E21+1 -> 7 | F22: CAPITAL INVERTIDO COMO DUEÑO O SOCIO EN NEGOCIOS
E23: =+E22+1 -> 8 | F23: ACCIONES QUE POSEEN EN COMPAÑÍAS (Valor nominal) | U23: =+Acciones!I13 -> 0
E24: =+E23+1 -> 9 | F24: TÍTULOS, BONOS, OTROS DEPÓSITOS EN BANCOS O EN SU PODER | U24: =+Efectivo!E25+Efectivo!E34 -> 0
E25: =+E24+1 -> 10 | F25: CRÉDITOS HIPOTECARIOS
E26: =+E25+1 -> 11 | F26: VEHÍCULOS MOTOR: AUTOMÓVILES | U26: =+Vehiculos!L17 -> 850000 | AB26: Reportado en el año anterior
E27: =+E26+1 -> 12 | F27: MOBILIARIO DE OFICINA, CONSULTORIO, BUFETES, ETC.
E28: =+E27+1 -> 13 | F28: MOBILIARIO DE LA CASA | U28: 0 | AB28: Reportado en el año anterior
E29: =+E28+1 -> 14 | F29: DINERO EN CAJA, CUENTAS DE AHORROS Y CORRIENTES | U29: =+Efectivo!E13 -> 0
E30: =+E29+1 -> 15 | F30: NAVES Y OTRAS EMBARCACIONES DE CUALQUIER TIPO
E31: =+E30+1 -> 16 | F31: OTROS | U31: =+'Gastos 606'!E7 -> 0 | AB31: Reportado en el 606 del 2024
E32: =+E31+1 -> 17 | F32: TOTAL DE BIENES ACUMULADOS EN EL AÑO (Sumar casillas 1 hasta 16) | U32: =SUM(U16:U31) -> 850000
E33: =+E32+1 -> 18 | F33: DEUDAS POR PRESTAMOS HIPOTECARIOS
E34: =+E33+1 -> 19 | F34: DEUDAS POR PRESTAMOS PRENDARIOS
E35: =+E34+1 -> 20 | F35: OTRAS DEUDAS | U35: =+'CXC CXP'!D25 -> 0 | AC35: 950000 | AD35: Patrimonio 2023
E36: =+E35+1 -> 21 | F36: PATRIMONIO NETO DEL AÑO (Casillas 17-18-19-20) | U36: =U32-U33-U34-U35 -> 850000 | AC36: =+U36 -> 850000 | AD36: Incremento de Patrimonio
C38: II. | E38: DETALLES DE RETENCIONES (Anexar certificaciones) | U38: MONTO | AD38: Revalorizaciones y dividendos
C39: RETENCIONES | E39: =+E36+1 -> 22 | F39: RETENCIONES EFECTUADAS ENTIDADES ESTATALES (Viene del Formato de Envío 623)
E40: =E39+1 -> 23 | F40: RETENCIONES POR SALARIOS | U40: =+'Ingresos terceros'!E7 -> 0 | AC40: =+'Anexo B'!L90 -> 0 | AD40: Otros ingresos
E41: =E40+1 -> 24 | F41: RETENCIONES POR HONORARIOS | U41: =+'Ingresos terceros'!E11 -> 0 | AC41: =+AC36-AC35+AC40 -> -100000 | AD41: Incremento no justificado , si es positivo
E42: =E41+1 -> 25 | F42: RETENCIONES POR ALQUILER
E43: =E42+1 -> 26 | F43: RETENCIONES POR INTERESES PERCIBIDOS
E44: =E43+1 -> 27 | F44: OTRAS RETENCIONES
E45: =E44+1 -> 28 | F45: TOTAL DE RETENCIONES (Sumar casillas 22 hasta 27) | U45: =SUM(U39:U44) -> 0
C46: =IF(AND('Anexo B'!J22<=U40,U40>0),"La Casilla 10 'Ingresos por Salarios' del Anexo B debe ser superior a la Casilla 23 'Retenciones por Salarios'.",0) -> 0

Sheet Anticipos
F2: Versión 2018
D3: DIRECCION GENERAL DE IMPUESTOS INTERNOS
D4: DECLARACION JURADA DE IMPUESTO SOBRE LA RENTA PARA LAS PERSONAS FISICAS
C6: CALCULO DE ANTICIPOS
C8: CALCULO RENTA NETA
C9: RENTA NETA IMPONIBLE (Casilla 10 del IR-1) | E9: = | F9: =+'IR-1'!AC26 -> 0
C10: GANANCIA DE CAPITAL POR VENTAS DE ACCIONES (Casilla 8 del IR-1) | E10: - | F10: =+'IR-1'!V24 -> 0
C11: =30000*12 -> 360000 | E11: - | F11: =+'IR-1'!V25 -> 0
C12: RENTA NETA IMPONIBLE SUJETA AL PAGO DE ANTICIPOS | E12: = | F12: =IF(F9-F11-F10<0,0,F9-F11-F10) -> 0
C14: EXENCIÓN CONTRIBUTIVA (Casilla 6 del IR-1) | E14: = | F14: =+'IR-1'!V22 -> 416220
C15: IMPUESTO LIQUIDADO SUJETO AL PAGO DE ANTICIPOS (Aplica tasa a la Renta Neta Imponible) | E15: = | F15: =ABS(IF(AND(F12<=0,F14>0),0,IF(AND(F12<=208109,F14>0),0.15*F12,IF(AND(F12<=450903,F14>0),31216.35+(0.2*(F12-208109)),IF(AND(F12>=450903,F14>0),79775.15+(0.25*(F12-450903)),IF(F12<=624329,0.15*F12,IF(F12<=867123,93649.35+(0.2*(F12-624329)),IF(F12>867123,142208.15+(0.25*(F12-867123)))))))))) -> 0
C16: TOTAL DE RETENCIONES (Casilla 13 del IR-1) | E16: - | F16: ='IR-1'!V30 -> 0
C17: IMPUESTO LIQUIDADO NETO SUJETO AL PAGO DE ANTICIPOS | E17: = | F17: =IF(F15-F16<=0,0,F15-F16) -> 0
J19: =+'Ingresos terceros'!#REF! -> #REF!
C20: ANTICIPOS GENERADOS
C21: JUNIO | E21: + | F21: =IF(F17>1000,F17*50%,0) -> 0
C22: SEPTIEMBRE | E22: + | F22: =IF(F17>1000,F17*30%,0) -> 0
C23: DICIEMBRE | E23: + | F23: =IF(F17>1000,F17*20%,0) -> 0
C24: TOTAL | E24: = | F24: =SUM(F21:F23) -> 0

Sheet Inf. Anticipos no Pagados 
A1: Informacion sobre anticipos no pagados

Sheet Ingresos terceros
A1: =+NOMBRE -> 0
A2: Relacion de Ingresos
A3: Periodo fiscal | C3: =+AÑO_FISCAL -> 2024
A6: Ingresos | D6: Total ingresos | E6: Retenciones | F6: Ingresos Exentos
A7: Salarios y bonificaciones | D7: =+'Salarios DGII'!D19 -> 0 | E7: =+'Salarios DGII'!F19 -> 0 | F7: =+D7-E7 -> 0
A8: Regalia | D8: =+'Salarios DGII'!D22 -> 0 | F8: =+D8 -> 0
A9: Vacaciones | D9: =+'Salarios DGII'!D21 -> 0
A10: Asistencia Proporcional Economica Laboral (Art. 82 Código de Trabajo) | F10: =+D10 -> 0
A11: Honorarios | D11: =+'Ingresos presentados'!B16 -> 0 | E11: =+E62 -> 0 | F11: =+D11-E11 -> 0
A12: Dividendos | D12: =+Acciones!M13 -> 0 | F12: =+D12 -> 0
A13: Intereses ganados | D13: =+Efectivo!F25+Efectivo!F34 -> 0 | F13: =+D13 -> 0
A14: Aportes AFP | D14: =+'Salarios DGII'!G19 -> 0 | F14: =+'Salarios DGII'!D24 -> 0
D15: =SUM(D7:D14) -> 0 | E15: =SUM(E7:E14) -> 0 | F15: =SUM(F7:F14) -> 0
F17: =+F15-'IR-1'!V19-'IR-1'!V20 -> 0
A20: RETENCIONES | E20: 0.02
A21: Honorarios con ISR | E21: =D21*0.1 -> 0
A22: Cliente | B22: Periodo | C22: NCF | D22: Valor con ISR | E22: ISR 2% | F22: 0.18
F23: =+D23*18% -> 0
F24: =+D24*18% -> 0
F25: =+D25*18% -> 0
F28: =+D28*18% -> 0
F29: =+D29*18% -> 0
F30: =+D30*18% -> 0
F31: =+D31*18% -> 0
F33: =+D33*18% -> 0
F34: =+D34*18% -> 0
F35: =+D35*18% -> 0
F36: =+D36*18% -> 0
F37: =+D37*18% -> 0
... F61: =+D61*18% -> 0
D62: =SUM(D23:D61) -> 0 | E62: =SUM(E23:E49) -> 0 | F62: =SUM(F25:F61) -> 0
D65: =+D62-D15 -> 0
E66: =SUM(E62:E65) -> 0

Sheet Hoja1
A1: RNC_CEDULA_NCF | B1: NOMBRE | C1: ANOFISCAL | D1: PERIODO | E1: NUMERO_NCF | F1: FECHA_COMPROBANTE | G1: TIPO_NCF | H1: TIPO_COSTO_GASTO | I1: MONTO_FACTURADO | J1: ITBIS_RETENIDO | K1: ITBIS_FACTURADO

Sheet Ingresos presentados
A2: ITBIS 2024
B3: Ingresos | C3: Retenciones
A4: Enero
A5: Febrero
A6: Marzo
A7: Abril
A8: Mayo
A9: Junio
A10: Julio
A11: Agosto
A12: Septiembre
A13: Octubre
A14: Noviembre
A15: Diciembre
A16: Total | B16: =SUM(B4:B15) -> 0 | C16: =SUM(C4:C15) -> 0
A18: Diferencia Terceros | B18: =+'Ingresos terceros'!D62 -> 0 | C18: =+C16-'Ingresos terceros'!E62 -> 0
B20: =+B16-B18 -> 0

Sheet ITBIS Llevado al costo
A2: ITBIS Llevado al costo 2024
A4: Enero
A5: Febrero | G5: 202401 | O5: 202402
A6: Marzo
A7: Abril
A8: Mayo
A9: Junio | B9: 0
A10: Julio | B10: 0
A11: Agosto | B11: 0
A12: Septiembre | B12: 0
A13: Octubre | B13: 0
A14: Noviembre | B14: 0
A15: Diciembre | B15: 0
A16: Total | B16: =SUM(B4:B15) -> 0
G32: 202403 | O32: 202404
G57: 202406
O58: 202407
G83: 202411 | O83: 202412

Sheet Gastos 606
A1: Gastos según DGII
A4: Gastos por trabajos, suministros y serv.
A5: Compras y gastos forman parte costo de venta
A6: Gastos activos fijos
A7: Adquisicion de activos
A8: Total | E8: =SUM(E4:E7) -> 0

Sheet Acciones
A1: =+NOMBRE -> 0 | D1: Leyenda | J1: Tasa | K1: =+'Tasa de cambio 31.12.2023'!I3 -> 57.8265
A2: BASE DE DATOS ACCIONES | F2: Validado con certificación
F3: No se recibió certificación
C6: Cantidad | D6: Valor | E6: Tasa | J6: Dividendos | L6: Impuestos | M6: Dividendos | N6: Comentarios
A7: RNC | B7: Empresa | C7: Acciones | D7: Acciones | E7: Exenta | G7: VALOR NOMINAL | H7: VALOR | I7: TOTAL | J7: Efectivo | K7: Acciones | L7: Retenidos | M7: Netos
E8: de Imp. | F8: MONEDA | G8: INVERTIDO | H8: PRIMA | I8: INVERTIDO
B13: Total RD$ | G13: =SUM(G9:G12) -> 0 | H13: =SUM(H9:H12) -> 0 | I13: =SUM(I9:I12) -> 0 | J13: =SUM(J9:J12) -> 0 | K13: =SUM(K9:K12) -> 0 | L13: =SUM(L9:L12) -> 0 | M13: =SUM(M9:M12) -> 0
C15: =SUM(C9:C14) -> 0

Sheet Efectivo
B1: =+NOMBRE -> 0
B2: Detalle de disponibilidades
B3: Al 31 de diciembre 2023 | E3: =+'Tasa de cambio 31.12.2023'!I3 -> 57.8265
B4: Efectivo | C4: Tipo Cuenta | D4: US$ | E4: RD$ (equivalente en pesos) | F4: Intereses | G4: Impuesto Retenido
B13: Total | E13: =SUM(E5:E12) -> 0 | F13: =SUM(F5:F12) -> 0 | G13: =SUM(G5:G12) -> 0
B17: CD | C17: Tipo | D17: US$ | E17: RD$ (equivalente en pesos) | F17: Intereses | G17: Impuesto Retenido
B25: Total | E25: =SUM(E18:E24) -> 0 | F25: =SUM(F18:F24) -> 0 | G25: =SUM(G18:G24) -> 0
B28: Inversiones | C28: Tipo | D28: US$ | E28: RD$ (equivalente en pesos) | F28: Intereses | G28: Impuesto Retenido
B34: Total | E34: =SUM(E29:E33) -> 0 | F34: =SUM(F26:F33) -> 0 | G34: =SUM(G26:G33) -> 0

Sheet Vehiculos
A1: =+NOMBRE -> 0
A2: INVENTARIO DE ACTIVOS
A3: Año | B3: =+AÑO_FISCAL -> 2024
A5: LISTA DE AUTOMOVILES VIGENTES
C7: Nùmero | M7: Comprado o
A8: No. | B8: ACTIVOS | C8: del | D8: Fecha | E8: Chasis | F8: Marca | G8: Modelo | H8: Año | I8: Placa | J8: Color | K8: Moneda | L8: Costo | M8: Aportado en | N8: Comprado A: | O8: Vendido A: | P8: Fecha | U8: Balance | V8: Status
C9: matricula | M9: Fecha Asamblea
L10: 850000
B17: Total | L17: =SUM(L10:L16) -> 850000 | U17: =SUM(U10:U16) -> 0 | V17: =SUM(V10:V16) -> 0
U27: =+L25 -> 0

Sheet Inmuebles
A1: =+NOMBRE -> 0
A2: INVENTARIO DE ACTIVOS
A4: Número | B4: Tipo Inmueble | C4: Título | D4: Sector | E4: Mt2 | F4: Terreno RD$ | G4: Mejora RD$ | H4: Monto total en RD$ | I4: Rural/Urbano
H5: =SUM(F5:G5) -> 0
H6: =SUM(F6:G6) -> 0
G10: Total RD$ | H10: =SUM(H5:H9) -> 0

Sheet CXC CXP
A2: =+NOMBRE -> 0
A3: Relacion Cuentas por Cobrar & Por Pagar
A4: 45291 | D4: =+'Tasa de cambio 31.12.2023'!I3 -> 57.8265
A6: CUENTAS POR COBRAR | D6: En RD$
A7: Deudor | B7: Moneda | C7: Valor en US$ | D7: Valor en RD$
A13: Total | B13: Total cueentas por cobrar | C13: =SUM(C8:C9) -> 0 | D13: =SUM(D8:D12) -> 0
A17: CUENTAS POR PAGAR
A18: Acreedor | B18: Moneda | C18: Valor en US$ | D18: Valor en RD$ | E18: Referencia
B25: Total cuentas por pagar | D25: =SUM(D19:D24) -> 0

Sheet Salarios DGII
A1: =+NOMBRE -> 0
A2: Reporte de salario durante el período fiscal 2023
G4: 0.0304 | H4: 0.0287
A5: PERIODO | B5: RNC EMPLEADOR | C5: NOMBRE EMPLEADOR | D5: SALARIO | E5: OTROS INGRESOS | F5: RETENCION ISR | G5: SFS | H5: AFP
C19: TOTALES | D19: =SUM(D6:D18) -> 0 | E19: =SUM(E6:E18) -> 0 | F19: =SUM(F6:F18) -> 0 | G19: =SUM(G6:G17) -> 0
A22: Sueldo 13
A24: Ingresos despues de TSS | D24: =+D19-G19 -> 0

Sheet Balanza
A1: =+NOMBRE -> 0
A2: Balance General
A3: Al 31 de diciembre 2021
D4: 2021 | E4: Anexo | F4: casilla | H4: Lee de la hojas de trabajo
A5: Efectivo en caja y banco | E5: A | F5: 1.14
A6: Cuentas por cobrar | E6: A | F6: 1.16
A7: Capital invertido como dueño o socio en negocios | E7: A | F7: 1.7
A8: Inversiones en instrumentos financieros a corto plazo | E8: A | F8: 1.9
A9: Inversiones en sociedades | E9: A | F9: 1.8
A10: Terrenos urbanos | E10: A | F10: 1.1
A11: Edificaciones urbanas | E11: A | F11: 1.2
A12: Terrenos rurales | E12: A | F12: 1.3
A13: Mejoras en terrenos rurales | E13: A | F13: 1.4
A14: Equipos de transporte | E14: A | F14: 1.11
A15: Mobiliarios de la casa | E15: A | F15: 1.13
A16: Naves y otras embarcaciones | E16: A | F16: 1.15
A17: Cuentas por pagar | E17: A | F17: 1.20 | H17: Sumatoria A | I17: Total anexo A | J17: Dif.
A18: Prestamos hipotecarios | E18: A | F18: 1.18 | H18: =SUM(D5:D18) -> 0 | I18: =+'Anexo A'!U36*-1 -> -850000 | J18: =+H18+I18 -> -850000
A19: Salarios y bonificaciones | E19: B | F19: 2.9
A20: Regalia | E20: B | F20: 2.13
A21: Honorarios | E21: B | F21: 2.4
A22: Dividendos en efectivo | E22: B | F22: 2.13
A23: Alquiler | E23: B | F23: 2.5
A24: Intereses ganados entidades reguladas | E24: B | F24: 2.10
A25: Otros ingresos | E25: B | F25: 2.6
A26: Venta de bienes locales | E26: B | F26: 2.1
H27: Sumatoria B | I27: Total anexo B | J27: Dif.
A28: Total pasivos y capital | D28: =SUM(D5:D27) -> 0 | H28: =SUM(D19:D26) -> 0 | I28: =+'Anexo B'!L27 -> 0 | J28: =+H28+I28 -> 0

Sheet Balance General
A2: =+NOMBRE -> 0
A3: Balance General
A4: Al 31 de diciembre 2021
D6: 2021 | F6: 2020
A8: Activos
A9: Activos corrientes
A10: Efectivo en caja y banco | D10: =+Balanza!D5 -> 0
A11: Cuentas por cobrar | D11: =+Balanza!D6 -> 0
A12: Certificados financieros | D12: =+Balanza!D8 -> 0 | F12: 0
A13: Total activos corrientes | D13: =SUM(D10:D12) -> 0 | F13: 77794990
A15: Activos fijos netos | D15: =+Balanza!D10+Balanza!D11+Balanza!D12+Balanza!D13+Balanza!D14+Balanza!D15+Balanza!D16 -> 0
A16: Inversiones en acciones | D16: =+Balanza!D9 -> 0
A17: Total activos | D17: =SUM(D13:D16) -> 0 | F17: 83893749
A19: Pasivos
A20: Cuentas por pagar | D20: =+Balanza!D17*-1 -> 0
A21: Prestamos por pagar | D21: =Balanza!D18 -> 0
A22: Total pasivos | D22: =SUM(D20:D21) -> 0 | F22: 149714.97
A24: Patrimonio
A26: Total pasivos y capital | D26: =+D22+D24 -> 0 | F26: 83893749
D28: =+D26-D17 -> 0 | F28: =+F26-F17 -> 0
C30: Total bienes acumulados al 31 dic.
C32: Dif.
A34: Aumento o (-Disminucion) Patrimonio en el 2021 | D34: =D24-F24 -> 0
A35: Aumento por Revalorizacion Ley 46-20 | D35: =+'Ingresos terceros'!#REF! -> #REF!
A36: Incremento patrimonio por ingresos percibidos | D36: =+D34-D35 -> #REF!
F39: Ingresos reportados

Sheet Resultados
A2: =+NOMBRE -> 0
A3: Estado de Resultados
A4: al 31 de diciembre 2021
B8: Notas | D8: 2021 | F8: 2020
A9: Ingresos por:
A10: Salarios y bonificaciones | D10: =+Balanza!D19 -> 0
A11: Regalía | D11: =+Balanza!D20 -> 0
A12: Honorarios | D12: =+Balanza!D21+Balanza!D23*-1 -> 0
A13: Dividendos e intereses | B13: 6 | D13: =+(Balanza!D22+Balanza!D24)*-1 -> 0
A14: Total de ingresos | D14: =SUM(D10:D13) -> 0 | F14: =SUM(F10:F13) -> 0
A16: Gastos:
A17: Alimentación y servicios
A18: Gastos financieros
A19: Otros gastos
A20: Total gastos
A21: Ganancia antes de impuestos
A22: Impuesto sobre la renta
A23: Ganancia neta | D23: =SUM(D17:D22) -> 0 | F23: =SUM(F17:F22) -> 0

Sheet Datos de terceros
L19: 485287.48

Sheet Tasa de cambio 31.12.2023
I3: 57.8265

Sheet Anticipos Pagados 2023
B4: Anticipos ISR Pagados 2024
B6: 202406
B7: 202409 | C7: 0
B8: 202412 | C8: 0
C9: =SUM(C6:C8) -> 0

Sheet Anticipo
